BEGIN:VCALENDAR
VERSION:2.0
PRODID:-//The Henry Clay Inn - ECPv6.15.20//NONSGML v1.0//EN
CALSCALE:GREGORIAN
METHOD:PUBLISH
X-WR-CALNAME:The Henry Clay Inn
X-ORIGINAL-URL:https://henryclayinn.com
X-WR-CALDESC:Events for The Henry Clay Inn
REFRESH-INTERVAL;VALUE=DURATION:PT1H
X-Robots-Tag:noindex
X-PUBLISHED-TTL:PT1H
BEGIN:VTIMEZONE
TZID:America/New_York
BEGIN:DAYLIGHT
TZOFFSETFROM:-0500
TZOFFSETTO:-0400
TZNAME:EDT
DTSTART:20250309T070000
END:DAYLIGHT
BEGIN:STANDARD
TZOFFSETFROM:-0400
TZOFFSETTO:-0500
TZNAME:EST
DTSTART:20251102T060000
END:STANDARD
BEGIN:DAYLIGHT
TZOFFSETFROM:-0500
TZOFFSETTO:-0400
TZNAME:EDT
DTSTART:20260308T070000
END:DAYLIGHT
BEGIN:STANDARD
TZOFFSETFROM:-0400
TZOFFSETTO:-0500
TZNAME:EST
DTSTART:20261101T060000
END:STANDARD
BEGIN:DAYLIGHT
TZOFFSETFROM:-0500
TZOFFSETTO:-0400
TZNAME:EDT
DTSTART:20270314T070000
END:DAYLIGHT
BEGIN:STANDARD
TZOFFSETFROM:-0400
TZOFFSETTO:-0500
TZNAME:EST
DTSTART:20271107T060000
END:STANDARD
END:VTIMEZONE
BEGIN:VEVENT
DTSTART;TZID=America/New_York:20260422T200000
DTEND;TZID=America/New_York:20260422T210000
DTSTAMP:20260423T131602
CREATED:20260317T170828Z
LAST-MODIFIED:20260317T174514Z
UID:9201-1776888000-1776891600@henryclayinn.com
SUMMARY:Haunted Hanover Tour
DESCRIPTION:Head to the Hanover Tavern for a tour of Historic Tavern as they share tales of paranormal happenings at the Tavern\, both new and old. \n*** For more information on this event click here. *** \nLooking for a local dining option while in town for the Haunted Hanover Tour? Be sure and make reservations at The Henry Clay Inn for brunch or dinner! We offer porch or indoor dining. Call us at 804-798-3100.
URL:https://henryclayinn.com/calendar/haunted-hanover-tour/
LOCATION:Hanover Tavern\, 13181 hanover courthouse road\, hanover\, VA\, 23069\, United States
ATTACH;FMTTYPE=image/jpeg:https://henryclayinn.com/wp-content/uploads/2026/03/haunted-tavern-hanover.jpg
END:VEVENT
BEGIN:VEVENT
DTSTART;VALUE=DATE:20260424
DTEND;VALUE=DATE:20260427
DTSTAMP:20260423T131602
CREATED:20251230T205924Z
LAST-MODIFIED:20251230T205924Z
UID:8348-1776988800-1777247999@henryclayinn.com
SUMMARY:VA USA Level 3 & 4 State Gymnastics Meet
DESCRIPTION:The Henry Clay Inn invites you to check out the Virginia USA Gymnastics State Meet\, a celebration of dedication\, athleticism\, and community spirit right here in our region. Gymnasts from across the state will compete at several levels. From Levels 5 through 10 and Xcel divisions\, across multiple weekends this spring. \n*** For more information on this event click here. *** \nLooking for a local dining option while in town for VA USA Gymnastics Meet? Be sure and make reservations at The Henry Clay Inn for brunch or dinner! We offer porch or indoor dining. Call us at 804-798-3100.
URL:https://henryclayinn.com/calendar/va-usa-level-3-4-state-gymnastics-meet/
LOCATION:Meadow Event Park\, 13191 Dawn Blvd\, Doswell\, VA\, 23047\, United States
ATTACH;FMTTYPE=image/jpeg:https://henryclayinn.com/wp-content/uploads/2025/12/gymnastics-meet.jpg
END:VEVENT
BEGIN:VEVENT
DTSTART;TZID=America/New_York:20260424T170000
DTEND;TZID=America/New_York:20260424T200000
DTSTAMP:20260423T131602
CREATED:20260317T203722Z
LAST-MODIFIED:20260317T203722Z
UID:9215-1777050000-1777060800@henryclayinn.com
SUMMARY:Ashland Fourth Fridays
DESCRIPTION:Ashland Fourth Fridays is a celebration of arts and culture throughout downtown Ashland\, Virginia. Come celebrate what makes Ashland wonderful and unique! \n*** For more information on this event click here. *** \nLooking for a local dining option while in town for Ashland Fourth Fridays? Be sure and make reservations at The Henry Clay Inn for brunch or dinner! We offer porch or indoor dining. Call us at 804-798-3100.
URL:https://henryclayinn.com/calendar/ashland-fourth-fridays-9/
LOCATION:Downtown Ashland
CATEGORIES:Local Events in Ashland,Things To Do Within 2 Hours of the Inn
ATTACH;FMTTYPE=image/jpeg:https://henryclayinn.com/wp-content/uploads/2026/02/Ashland-Fourth-Fridays.jpg
END:VEVENT
BEGIN:VEVENT
DTSTART;TZID=America/New_York:20260425T110000
DTEND;TZID=America/New_York:20260425T160000
DTSTAMP:20260423T131602
CREATED:20251230T210546Z
LAST-MODIFIED:20260323T154747Z
UID:8351-1777114800-1777132800@henryclayinn.com
SUMMARY:Ashland Train Day
DESCRIPTION:The 22st annual Ashland Train Day street festival and railroad extravaganza celebrates love for trains in the Center of the Universe rain or shine \n*** For more information on this event click here. *** \nLooking for a local dining option while in town for Ashland Train Day? Be sure and make reservations at The Henry Clay Inn for brunch or dinner! We offer porch or indoor dining. Call us at 804-798-3100.
URL:https://henryclayinn.com/calendar/ashland-train-day-3/
LOCATION:Downtown Ashland
ATTACH;FMTTYPE=image/jpeg:https://henryclayinn.com/wp-content/uploads/2025/12/ashland-train-day-1.jpg
END:VEVENT
BEGIN:VEVENT
DTSTART;TZID=America/New_York:20260430T160000
DTEND;TZID=America/New_York:20260430T180000
DTSTAMP:20260423T131602
CREATED:20260413T154730Z
LAST-MODIFIED:20260413T154730Z
UID:9368-1777564800-1777572000@henryclayinn.com
SUMMARY:Kitten Cuddle with Richardson Rescue
DESCRIPTION:Head to James River Wintery and play with kittens while sipping on some wine! Meet with kittens\, see if they would be a good fit for your family\, and talk to the event associates about adopting! \n*** For more information on this event click here *** \nLooking for a local dining option while in town for Kitten Cuddle with Richardson Rescue? Be sure and make reservations at The Henry Clay Inn for brunch or dinner! We offer porch or indoor dining. Call us at 804-798-3100.
URL:https://henryclayinn.com/calendar/kitten-cuddle-with-richardson-rescue/
LOCATION:James River Cellars\, 11008 Washington Highway\, Glenn Allen\, VA\, 23059\, United States
CATEGORIES:Local Events in Ashland,Things To Do Within 2 Hours of the Inn
ATTACH;FMTTYPE=image/jpeg:https://henryclayinn.com/wp-content/uploads/2026/04/jrw-calendar-kiten.jpg
END:VEVENT
BEGIN:VEVENT
DTSTART;TZID=America/New_York:20260501T173000
DTEND;TZID=America/New_York:20260501T203000
DTSTAMP:20260423T131602
CREATED:20260413T202448Z
LAST-MODIFIED:20260413T202448Z
UID:9409-1777656600-1777667400@henryclayinn.com
SUMMARY:Sounds at Sunset
DESCRIPTION:Enjoy an evening of live music\, great food\, and local flavor at the Hanover County Courthouse Complex. EXIT 38\, a Mechanicsville-based band\, will perform a high-energy mix of rock\, Top 40\, and dance hits from the 1970s to today. Food trucks Bourne Rogue BBQ and Lil Mike’s Kitchen will be on site\, along with a beer garden hosted by the Hanover C.R.E.W. Foundation. \n*** For more information on this event click here *** \nLooking for a local dining option while in town for Sounds at Sunset? Be sure and make reservations at The Henry Clay Inn for brunch or dinner! We offer porch or indoor dining. Call us at 804-798-3100.
URL:https://henryclayinn.com/calendar/sounds-at-sunset/
LOCATION:Hanover County Courthouse Complex\, 13182 Hanover Courthouse Rd\, Hanover\, VA\, 23069\, United States
CATEGORIES:Local Events in Ashland,Things To Do Within 2 Hours of the Inn
ATTACH;FMTTYPE=image/jpeg:https://henryclayinn.com/wp-content/uploads/2026/04/sounds-at-sunset.jpg
END:VEVENT
BEGIN:VEVENT
DTSTART;TZID=America/New_York:20260502T140000
DTEND;TZID=America/New_York:20260502T200000
DTSTAMP:20260423T131602
CREATED:20260413T161551Z
LAST-MODIFIED:20260413T161551Z
UID:9373-1777730400-1777752000@henryclayinn.com
SUMMARY:Taco Derby Festival
DESCRIPTION:Break out your big hats and sip a Mint Julep during the Taco Derby Festival — it’s Taco time meets Derby Day at the Secure Testing Services Pavilion on the Hanover Vegetable Farm! Celebrate Cinco de Mayo weekend at the Farm as we combine amazing tacos\, live music\, and the 152nd Kentucky Derby on giant LED screens and 30+ TVs inside the Richmond Ford West Event Barn. \n*** For more information on this event click here *** \nLooking for a local dining option while in town for Taco Derby Festival? Be sure and make reservations at The Henry Clay Inn for brunch or dinner! We offer porch or indoor dining. Call us at 804-798-3100.
URL:https://henryclayinn.com/calendar/taco-derby-festival/
LOCATION:Hanover Vegetable Farm\, 13580 Ashland Road\, ashland\, VA\, 23005\, United States
ATTACH;FMTTYPE=image/jpeg:https://henryclayinn.com/wp-content/uploads/2026/04/taco-derby-festival.jpg
END:VEVENT
BEGIN:VEVENT
DTSTART;TZID=America/New_York:20260509T090000
DTEND;TZID=America/New_York:20260509T120000
DTSTAMP:20260423T131602
CREATED:20260413T170247Z
LAST-MODIFIED:20260413T170247Z
UID:9396-1778317200-1778328000@henryclayinn.com
SUMMARY:Ashland Farmers Market
DESCRIPTION:The Ashland Farmers Market is a producers-only market with a focus on agriculture and food products. Vendors may only sell products that they have grown\, baked\, or made within a 30-mile radius of Ashland\, Virginia. No reselling is permitted. \n*** For more information on this event click here. *** \nLooking for a local dining option while in town for Ashland Farmers Market? Be sure and make reservations at The Henry Clay Inn for brunch or dinner! We offer porch or indoor dining. Call us at 804-798-3100.
URL:https://henryclayinn.com/calendar/ashland-farmers-market-10/
LOCATION:Downtown Ashland
CATEGORIES:Local Events in Ashland,Things To Do Within 2 Hours of the Inn
ATTACH;FMTTYPE=image/jpeg:https://henryclayinn.com/wp-content/uploads/2026/04/farmer-market-v1.jpg
END:VEVENT
BEGIN:VEVENT
DTSTART;TZID=America/New_York:20260510T090000
DTEND;TZID=America/New_York:20260510T150000
DTSTAMP:20260423T131602
CREATED:20260414T140213Z
LAST-MODIFIED:20260422T193954Z
UID:9420-1778403600-1778425200@henryclayinn.com
SUMMARY:Mother's Day Champagne Brunch
DESCRIPTION:Join us this Mother’s Day for a beautifully curated dining experience at The Henry Clay Inn. With seasonal flavors\, welcoming surroundings\, and attentive service\, it’s the perfect setting to celebrate Mom. \nThe Market is open from 6am to 11pm\nMother’s Day Brunch is from 9am with the last seating at 3pm\nMother’s Day dinner is from 4pm with the last seating at 9pm\nThe Lounge is open until 11pm\nMore information coming soon
URL:https://henryclayinn.com/calendar/mothers-day-at-the-henry-clay-inn/
LOCATION:The Henry Clay Inn\, 114 N Railroad Ave\, Ashland\, VA\, 23005\, United States
ATTACH;FMTTYPE=image/jpeg:https://henryclayinn.com/wp-content/uploads/2026/04/mothers-day-2026-2.jpg
END:VEVENT
BEGIN:VEVENT
DTSTART;TZID=America/New_York:20260510T160000
DTEND;TZID=America/New_York:20260510T210000
DTSTAMP:20260423T131602
CREATED:20260420T180958Z
LAST-MODIFIED:20260422T193912Z
UID:9442-1778428800-1778446800@henryclayinn.com
SUMMARY:Mother's Day Dinner at The Henry Clay Inn
DESCRIPTION:Join us this Mother’s Day for a beautifully curated dining experience at The Henry Clay Inn. With seasonal flavors\, welcoming surroundings\, and attentive service\, it’s the perfect setting to celebrate Mom. \nThe Market is open from 6am to 11pm\nMother’s Day Brunch is from 9am with the last seating at 3pm\nMother’s Day dinner is from 4pm with the last seating at 9pm\nThe Lounge is open until 11pm\nMore information coming soon
URL:https://henryclayinn.com/calendar/mothers-day-at-the-henry-clay-inn-2/
LOCATION:The Henry Clay Inn\, 114 N Railroad Ave\, Ashland\, VA\, 23005\, United States
ATTACH;FMTTYPE=image/jpeg:https://henryclayinn.com/wp-content/uploads/2026/04/mothers-day-dinner-2026.jpg
END:VEVENT
BEGIN:VEVENT
DTSTART;TZID=America/New_York:20260515T183000
DTEND;TZID=America/New_York:20260515T193000
DTSTAMP:20260423T131602
CREATED:20260413T162349Z
LAST-MODIFIED:20260413T162420Z
UID:9377-1778869800-1778873400@henryclayinn.com
SUMMARY:Historic Woodland Cemetery Tour
DESCRIPTION:The Historic Woodland Cemetery Tour is a guided walking tour of Ashland’s historic Cemetery led by Susan Tucker\, Woodland Cemetery Administrator – we will explore Woodland and the stories it tells about Ashland and Randolph-Macon College since 1862.  \n*** For more information on this event click here. *** \nLooking for a local dining option while in town for Historic Woodland Cemetery Tour? Be sure and make reservations at The Henry Clay Inn for brunch or dinner! We offer porch or indoor dining. Call us at 804-798-3100.
URL:https://henryclayinn.com/calendar/historic-woodland-cemetery-tour/
LOCATION:The Ashland Museum\, 105 Hanover Ave\, ashland\, VA\, 23005\, United States
CATEGORIES:Local Events in Ashland,Things To Do Within 2 Hours of the Inn
ATTACH;FMTTYPE=image/jpeg:https://henryclayinn.com/wp-content/uploads/2026/04/Historic-Woodland-Cemetery-Tour.jpg
END:VEVENT
BEGIN:VEVENT
DTSTART;TZID=America/New_York:20260516T090000
DTEND;TZID=America/New_York:20260516T120000
DTSTAMP:20260423T131602
CREATED:20260413T170330Z
LAST-MODIFIED:20260413T170330Z
UID:9399-1778922000-1778932800@henryclayinn.com
SUMMARY:Ashland Farmers Market
DESCRIPTION:The Ashland Farmers Market is a producers-only market with a focus on agriculture and food products. Vendors may only sell products that they have grown\, baked\, or made within a 30-mile radius of Ashland\, Virginia. No reselling is permitted. \n*** For more information on this event click here. *** \nLooking for a local dining option while in town for Ashland Farmers Market? Be sure and make reservations at The Henry Clay Inn for brunch or dinner! We offer porch or indoor dining. Call us at 804-798-3100.
URL:https://henryclayinn.com/calendar/ashland-farmers-market-11/
LOCATION:Downtown Ashland
CATEGORIES:Local Events in Ashland,Things To Do Within 2 Hours of the Inn
ATTACH;FMTTYPE=image/jpeg:https://henryclayinn.com/wp-content/uploads/2026/04/farmer-market-v3.jpg
END:VEVENT
BEGIN:VEVENT
DTSTART;TZID=America/New_York:20260516T110000
DTEND;TZID=America/New_York:20260516T180000
DTSTAMP:20260423T131602
CREATED:20260413T162926Z
LAST-MODIFIED:20260413T164323Z
UID:9381-1778929200-1778954400@henryclayinn.com
SUMMARY:Strawberry and Wine Festival
DESCRIPTION:The 9th Annual Mix 98.1 Blazer Heating\, Air & Plumbing Strawberry and Wine Festival returns to the Secure Testing Services Pavilion on the Hanover Vegetable Farm on May 16–17\, 2026\, from 11am–6pm daily. Enjoy a full weekend featuring 20+ wineries\, ciders\, spirits\, seltzers\, and beer vendors\, along with 40+ artisan and service vendors and 10+ food and dessert options.Bring the whole family out for an unforgettable weekend down on the farm! \n*** For more information on this event click here. *** \nLooking for a local dining option while in town for the Strawberry and Wine Festival? Be sure and make reservations at The Henry Clay Inn for brunch or dinner! We offer porch or indoor dining. Call us at 804-798-3100.
URL:https://henryclayinn.com/calendar/strawberry-and-wine-festival-2/
LOCATION:Hanover Vegetable Farm\, 13580 Ashland Road\, ashland\, VA\, 23005\, United States
CATEGORIES:Local Events in Ashland,Things To Do Within 2 Hours of the Inn
ATTACH;FMTTYPE=image/jpeg:https://henryclayinn.com/wp-content/uploads/2026/04/strawberry-wine-festival.jpg
END:VEVENT
BEGIN:VEVENT
DTSTART;TZID=America/New_York:20260516T170000
DTEND;TZID=America/New_York:20260516T220000
DTSTAMP:20260423T131602
CREATED:20260413T164254Z
LAST-MODIFIED:20260413T164254Z
UID:9384-1778950800-1778968800@henryclayinn.com
SUMMARY:Preakness on The Farm
DESCRIPTION:Get ready for a fantastic day filled with fun\, friends\, and all the excitement of the Preakness right on the farm. Enjoy great vibes\, delicious food\, and plenty of activities for everyone. Whether you’re a horse racing fan or just looking for a cool way to spend the day\, Preakness on the Farm is the place to be! \n*** For more information on this event click here. *** \nLooking for a local dining option while in town for Preakness on The Farm? Be sure and make reservations at The Henry Clay Inn for brunch or dinner! We offer porch or indoor dining. Call us at 804-798-3100.
URL:https://henryclayinn.com/calendar/preakness-on-the-farm/
LOCATION:Mason Estates Farm\, 14084 Horseshoe Bridge Rd\,\, Ashland\, VA\, 23005\, United States
CATEGORIES:Local Events in Ashland,Things To Do Within 2 Hours of the Inn
ATTACH;FMTTYPE=image/jpeg:https://henryclayinn.com/wp-content/uploads/2026/04/Preakness-on-The-Farm.jpg
END:VEVENT
BEGIN:VEVENT
DTSTART;TZID=America/New_York:20260522T170000
DTEND;TZID=America/New_York:20260522T200000
DTSTAMP:20260423T131602
CREATED:20260413T165532Z
LAST-MODIFIED:20260413T165613Z
UID:9391-1779469200-1779480000@henryclayinn.com
SUMMARY:Ashland Fourth Fridays
DESCRIPTION:Ashland Fourth Fridays is a celebration of arts and culture throughout downtown Ashland\, Virginia. Come celebrate what makes Ashland wonderful and unique! \n*** For more information on this event click here. *** \nLooking for a local dining option while in town for Ashland Fourth Fridays? Be sure and make reservations at The Henry Clay Inn for brunch or dinner! We offer porch or indoor dining. Call us at 804-798-3100.
URL:https://henryclayinn.com/calendar/ashland-fourth-fridays-10/
LOCATION:Downtown Ashland
CATEGORIES:Local Events in Ashland,Things To Do Within 2 Hours of the Inn
ATTACH;FMTTYPE=image/jpeg:https://henryclayinn.com/wp-content/uploads/2026/02/Ashland-Fourth-Fridays.jpg
END:VEVENT
BEGIN:VEVENT
DTSTART;TZID=America/New_York:20260523T090000
DTEND;TZID=America/New_York:20260523T120000
DTSTAMP:20260423T131602
CREATED:20260413T174625Z
LAST-MODIFIED:20260413T174625Z
UID:9407-1779526800-1779537600@henryclayinn.com
SUMMARY:Ashland Farmers Market
DESCRIPTION:The Ashland Farmers Market is a producers-only market with a focus on agriculture and food products. Vendors may only sell products that they have grown\, baked\, or made within a 30-mile radius of Ashland\, Virginia. No reselling is permitted. \n*** For more information on this event click here. *** \nLooking for a local dining option while in town for Ashland Farmers Market? Be sure and make reservations at The Henry Clay Inn for brunch or dinner! We offer porch or indoor dining. Call us at 804-798-3100.
URL:https://henryclayinn.com/calendar/ashland-farmers-market-13/
LOCATION:Downtown Ashland
CATEGORIES:Local Events in Ashland,Things To Do Within 2 Hours of the Inn
ATTACH;FMTTYPE=image/jpeg:https://henryclayinn.com/wp-content/uploads/2026/04/farmer-market-v3.jpg
END:VEVENT
BEGIN:VEVENT
DTSTART;TZID=America/New_York:20260530T090000
DTEND;TZID=America/New_York:20260530T120000
DTSTAMP:20260423T131602
CREATED:20260413T170450Z
LAST-MODIFIED:20260413T171158Z
UID:9402-1780131600-1780142400@henryclayinn.com
SUMMARY:Ashland Farmers Market
DESCRIPTION:The Ashland Farmers Market is a producers-only market with a focus on agriculture and food products. Vendors may only sell products that they have grown\, baked\, or made within a 30-mile radius of Ashland\, Virginia. No reselling is permitted. \n*** For more information on this event click here. *** \nLooking for a local dining option while in town for Ashland Farmers Market? Be sure and make reservations at The Henry Clay Inn for brunch or dinner! We offer porch or indoor dining. Call us at 804-798-3100.
URL:https://henryclayinn.com/calendar/ashland-farmers-market-12/
LOCATION:Downtown Ashland
CATEGORIES:Local Events in Ashland,Things To Do Within 2 Hours of the Inn
ATTACH;FMTTYPE=image/jpeg:https://henryclayinn.com/wp-content/uploads/2026/04/farmer-market-v5.jpg
END:VEVENT
BEGIN:VEVENT
DTSTART;TZID=America/New_York:20260725T140000
DTEND;TZID=America/New_York:20260725T180000
DTSTAMP:20260423T131602
CREATED:20251230T204822Z
LAST-MODIFIED:20251230T204822Z
UID:8343-1784988000-1785002400@henryclayinn.com
SUMMARY:Beer\, Bourbon\, and bbq Festival
DESCRIPTION:RVA’s BIGGEST\, BADDEST\, BONE-IN\, BBQ Fest is Back For More!!! This 17th Annual affair offers up all those pleasures that true Southerners live by – Beer\, Bourbon\, Barbecue\, Boots\, Bacon\, Biscuits\, Bluegrass\, and Smoked Beasts! It’s a great day of beer sippin’\, bourbon tastin’\, music listenin’\, cigar smokin’\, and barbecue eatin’. Your admission buys you a sampling glass so you can enjoy an ALL-YOU-CARE-TO-TASTE sampling of beer and bourbon. \n*** For more information on this event click here. *** \nLooking for a local dining option while in town for the Beer\, Bourbon\, and bbq Festival? Be sure and make reservations at The Henry Clay Inn for brunch or dinner! We offer porch or indoor dining. Call us at 804-798-3100
URL:https://henryclayinn.com/calendar/beer-bourbon-and-bbq-festival/
LOCATION:Meadow Event Park\, 13191 Dawn Blvd\, Doswell\, VA\, 23047\, United States
ATTACH;FMTTYPE=image/jpeg:https://henryclayinn.com/wp-content/uploads/2025/12/beer-bourbon-run.jpg
END:VEVENT
END:VCALENDAR