BEGIN:VCALENDAR
VERSION:2.0
PRODID:-//The Henry Clay Inn - ECPv6.15.20//NONSGML v1.0//EN
CALSCALE:GREGORIAN
METHOD:PUBLISH
X-WR-CALNAME:The Henry Clay Inn
X-ORIGINAL-URL:https://henryclayinn.com
X-WR-CALDESC:Events for The Henry Clay Inn
REFRESH-INTERVAL;VALUE=DURATION:PT1H
X-Robots-Tag:noindex
X-PUBLISHED-TTL:PT1H
BEGIN:VTIMEZONE
TZID:America/New_York
BEGIN:DAYLIGHT
TZOFFSETFROM:-0500
TZOFFSETTO:-0400
TZNAME:EDT
DTSTART:20230312T070000
END:DAYLIGHT
BEGIN:STANDARD
TZOFFSETFROM:-0400
TZOFFSETTO:-0500
TZNAME:EST
DTSTART:20231105T060000
END:STANDARD
BEGIN:DAYLIGHT
TZOFFSETFROM:-0500
TZOFFSETTO:-0400
TZNAME:EDT
DTSTART:20240310T070000
END:DAYLIGHT
BEGIN:STANDARD
TZOFFSETFROM:-0400
TZOFFSETTO:-0500
TZNAME:EST
DTSTART:20241103T060000
END:STANDARD
BEGIN:DAYLIGHT
TZOFFSETFROM:-0500
TZOFFSETTO:-0400
TZNAME:EDT
DTSTART:20250309T070000
END:DAYLIGHT
BEGIN:STANDARD
TZOFFSETFROM:-0400
TZOFFSETTO:-0500
TZNAME:EST
DTSTART:20251102T060000
END:STANDARD
END:VTIMEZONE
BEGIN:VEVENT
DTSTART;TZID=America/New_York:20240601T090000
DTEND;TZID=America/New_York:20240601T120000
DTSTAMP:20260424T025729
CREATED:20240506T151728Z
LAST-MODIFIED:20240521T200123Z
UID:5548-1717232400-1717243200@henryclayinn.com
SUMMARY:Ashland Farmers Market
DESCRIPTION:Shop & Support Local at the Ashland Farmers Market! \n*** For more information click Here. *** \nLooking for a local dining option while in town for the Ashland Farmers Market? Be sure and make reservations at The Henry Clay Inn for brunch or dinner! We offer porch or indoor dining. Call us at 804-798-3100.
URL:https://henryclayinn.com/calendar/ashland-farmers-market/
LOCATION:Ashland Town Hall\, 121 Thompson Street\, ashland\, VA\, 23005\, United States
ATTACH;FMTTYPE=image/jpeg:https://henryclayinn.com/wp-content/uploads/2024/05/Ashland-Farmers-Market-June-HCI.jpg
END:VEVENT
BEGIN:VEVENT
DTSTART;TZID=America/New_York:20240601T100000
DTEND;TZID=America/New_York:20240601T170000
DTSTAMP:20260424T025729
CREATED:20240312T193657Z
LAST-MODIFIED:20240515T151102Z
UID:5092-1717236000-1717261200@henryclayinn.com
SUMMARY:Ashland Strawberry Faire
DESCRIPTION:This is an event hosted by Randolph-Macon College. The Ashland Strawberry Faire is a free\, family-oriented event that promotes the community\, celebrates the strawberry harvest\, and raises funds for Hanover County Public School scholarships and non-profit groups. \nCome visit 300 vendors\, including arts & crafts\, non-profit organizations\, food vendors\, and Hanover County businesses in historic Ashland\, Virginia. The Faire is held on the tree-lined streets of beautiful Randolph-Macon College. \n*** Learn more at Ashlandstrawberryfaire.com *** \nLooking for a local dining option while in town for the Ashland Strawberry Faire? Be sure and make reservations at The Henry Clay Inn for brunch or dinner! We offer porch or indoor dining. Call us at 804-798-3100.
URL:https://henryclayinn.com/calendar/ashland-strawberry-faire/
LOCATION:Randolph-Macon College\, 114 College Ave\, ashland\, VA\, 23005\, United States
ATTACH;FMTTYPE=image/jpeg:https://henryclayinn.com/wp-content/uploads/2024/03/Ashland-Strawberry-Faire.jpg
END:VEVENT
BEGIN:VEVENT
DTSTART;TZID=America/New_York:20240601T113000
DTEND;TZID=America/New_York:20240601T170000
DTSTAMP:20260424T025729
CREATED:20240528T171505Z
LAST-MODIFIED:20240528T171505Z
UID:5740-1717241400-1717261200@henryclayinn.com
SUMMARY:Patrick Henry High School Graduation
DESCRIPTION:Let’s celebrate the Patrick Henry Class of 2024 at Graduation! \n#PHPatriotsGrad24 \n*** For more information on this event visit hcps.us *** \nLooking for a local dining option while in town for the Patrick Henry High School Graduation? Be sure and make reservations at The Henry Clay Inn for brunch or dinner! We offer porch or indoor dining. Call us at 804-798-3100.
URL:https://henryclayinn.com/calendar/patrick-henry-high-school-graduation/
LOCATION:Meadow Event Park\, 13191 Dawn Blvd\, Doswell\, VA\, 23047\, United States
ATTACH;FMTTYPE=image/jpeg:https://henryclayinn.com/wp-content/uploads/2024/05/Patrick-Henry-High-School-Graduation-HCI.jpg
END:VEVENT
BEGIN:VEVENT
DTSTART;TZID=America/New_York:20240601T090000
DTEND;TZID=America/New_York:20240601T120000
DTSTAMP:20260424T025729
CREATED:20240506T151728Z
LAST-MODIFIED:20240521T200123Z
UID:5548-1717232400-1717243200@henryclayinn.com
SUMMARY:Ashland Farmers Market
DESCRIPTION:Shop & Support Local at the Ashland Farmers Market! \n*** For more information click Here. *** \nLooking for a local dining option while in town for the Ashland Farmers Market? Be sure and make reservations at The Henry Clay Inn for brunch or dinner! We offer porch or indoor dining. Call us at 804-798-3100.
URL:https://henryclayinn.com/calendar/ashland-farmers-market/
LOCATION:Ashland Town Hall\, 121 Thompson Street\, ashland\, VA\, 23005\, United States
ATTACH;FMTTYPE=image/jpeg:https://henryclayinn.com/wp-content/uploads/2024/05/Ashland-Farmers-Market-June-HCI.jpg
END:VEVENT
BEGIN:VEVENT
DTSTART;TZID=America/New_York:20240608T130000
DTEND;TZID=America/New_York:20240608T190000
DTSTAMP:20260424T025729
CREATED:20240506T154002Z
LAST-MODIFIED:20240521T195405Z
UID:5553-1717851600-1717873200@henryclayinn.com
SUMMARY:Southern Food Festival
DESCRIPTION:This event is hosted by The center of the Universe brewing Co. The Southern Food Fest is back! Packing a whole day of southern food\, live music\, and delicious beer\, wine\, cider\, and non-alcoholic beverages. Admission is FREE and the event is open to all ages. See you on June 8th ya’ll! \n***For more information on this event click here.*** \nAre you planning on staying in Ashland overnight for The Southern Food Fest? Be sure to make reservations at The Henry Clay Inn for all your lodging needs! Call us at 804-798-3100.
URL:https://henryclayinn.com/calendar/southern-food-festival/
LOCATION:Center of the Universe Brewing Co.\, 11293 Air Park Rd\, ashland\, VA\, 23005\, United States
ATTACH;FMTTYPE=image/jpeg:https://henryclayinn.com/wp-content/uploads/2024/05/Southern-Food-Festival-HCI.jpg
END:VEVENT
BEGIN:VEVENT
DTSTART;TZID=America/New_York:20240601T090000
DTEND;TZID=America/New_York:20240601T120000
DTSTAMP:20260424T025729
CREATED:20240506T151728Z
LAST-MODIFIED:20240521T200123Z
UID:5548-1717232400-1717243200@henryclayinn.com
SUMMARY:Ashland Farmers Market
DESCRIPTION:Shop & Support Local at the Ashland Farmers Market! \n*** For more information click Here. *** \nLooking for a local dining option while in town for the Ashland Farmers Market? Be sure and make reservations at The Henry Clay Inn for brunch or dinner! We offer porch or indoor dining. Call us at 804-798-3100.
URL:https://henryclayinn.com/calendar/ashland-farmers-market/
LOCATION:Ashland Town Hall\, 121 Thompson Street\, ashland\, VA\, 23005\, United States
ATTACH;FMTTYPE=image/jpeg:https://henryclayinn.com/wp-content/uploads/2024/05/Ashland-Farmers-Market-June-HCI.jpg
END:VEVENT
BEGIN:VEVENT
DTSTART;TZID=America/New_York:20240615T100000
DTEND;TZID=America/New_York:20240615T130000
DTSTAMP:20260424T025729
CREATED:20240528T173020Z
LAST-MODIFIED:20240528T173020Z
UID:5748-1718445600-1718456400@henryclayinn.com
SUMMARY:Wellness Fair & British Car Show
DESCRIPTION:Kick your summer off with a healthy start at Woodside Farms where they will be hosting their Open House Wellness Fair and British Classic Car Show. There will be markets\, walking trails\, live music\, and more! \n*** For more information on this event click here. *** \nLooking for a local dining option while in town for the Wellness Fair & British Car Show? Be sure and make reservations at The Henry Clay Inn for brunch or dinner! We offer porch or indoor dining. Call us at 804-798-3100.
URL:https://henryclayinn.com/calendar/wellness-fair-british-car-show/
LOCATION:Woodside Farms\, 10447 Woodside Farms Drive\, Glen Allen\, VA\, 23059\, United States
ATTACH;FMTTYPE=image/jpeg:https://henryclayinn.com/wp-content/uploads/2024/05/Wellness-Fair-Car-Show-HCI.jpg
END:VEVENT
BEGIN:VEVENT
DTSTART;TZID=America/New_York:20240615T100000
DTEND;TZID=America/New_York:20240615T180000
DTSTAMP:20260424T025729
CREATED:20240506T155435Z
LAST-MODIFIED:20240521T191851Z
UID:5559-1718445600-1718474400@henryclayinn.com
SUMMARY:The Broyles Auto & Wrecker Service Down On The Farm Wing Fest
DESCRIPTION:Wings\, Wings\, Wings!\nIt’s Father’s Day weekend so what better way to celebrate than with good\ntimes down on the Farm with great live music\, cold adult beverages and\nWings! \n***Learn more at Hanovervegetablefarm.com*** \nAre you planning on staying in Ashland overnight for the Down on The Farm Wing Fest? Be sure to make reservations at The Henry Clay Inn for all your lodging needs! Call us at 804-798-3100.
URL:https://henryclayinn.com/calendar/down-on-the-farm-wing-fest/
LOCATION:Hanover Vegetable Farm\, 13580 Ashland Road\, ashland\, VA\, 23005\, United States
ATTACH;FMTTYPE=image/jpeg:https://henryclayinn.com/wp-content/uploads/2024/05/Down-On-The-Farm-Wing-Festival-HCI.jpg
END:VEVENT
BEGIN:VEVENT
DTSTART;TZID=America/New_York:20240616T110000
DTEND;TZID=America/New_York:20240616T160000
DTSTAMP:20260424T025729
CREATED:20240528T150516Z
LAST-MODIFIED:20240528T151622Z
UID:5721-1718535600-1718553600@henryclayinn.com
SUMMARY:Fatherfest Tap Takeover
DESCRIPTION:This annual event is hosted by The Hanover Tavern. Head over to the Hanover Tavern to celebrate this Father’s Day with live music\, brunch\, and more!  \n*** Reservations are required\, for more information visit hanovertavern.org/event. *** \nAre you planning on staying in Ashland overnight for The Fatherfest Tap Takeover? Be sure to make reservations at The Henry Clay Inn for all your lodging needs! Call us at 804-798-3100.
URL:https://henryclayinn.com/calendar/fatherfest-tap-takeover/
LOCATION:Hanover Tavern\, 13181 hanover courthouse road\, hanover\, VA\, 23069\, United States
ATTACH;FMTTYPE=image/jpeg:https://henryclayinn.com/wp-content/uploads/2024/05/Fatherfest-tap-takeover-HCI.jpg
END:VEVENT
BEGIN:VEVENT
DTSTART;TZID=America/New_York:20240620T200000
DTEND;TZID=America/New_York:20240620T210000
DTSTAMP:20260424T025729
CREATED:20240528T152605Z
LAST-MODIFIED:20240528T152605Z
UID:5731-1718913600-1718917200@henryclayinn.com
SUMMARY:Haunted Tavern Tour
DESCRIPTION:This event is hosted by The Hanover Tavern. Join them for a tour of Historic Hanover Tavern as they share tales of paranormal happenings at the Tavern\, both new and old. \n*** For more information on this event visit hanovertavern.org. *** \nLooking for a local dining option while in town for the Haunted Tavern Tour? Be sure and make reservations at The Henry Clay Inn for brunch or dinner! We offer porch or indoor dining. Call us at 804-798-3100.
URL:https://henryclayinn.com/calendar/haunted-tavern-tour/
LOCATION:Hanover Tavern\, 13181 hanover courthouse road\, hanover\, VA\, 23069\, United States
ATTACH;FMTTYPE=image/jpeg:https://henryclayinn.com/wp-content/uploads/2024/05/Haunted-Hanover-Tour-June-HCI.jpg
END:VEVENT
BEGIN:VEVENT
DTSTART;TZID=America/New_York:20240601T090000
DTEND;TZID=America/New_York:20240601T120000
DTSTAMP:20260424T025729
CREATED:20240506T151728Z
LAST-MODIFIED:20240521T200123Z
UID:5548-1717232400-1717243200@henryclayinn.com
SUMMARY:Ashland Farmers Market
DESCRIPTION:Shop & Support Local at the Ashland Farmers Market! \n*** For more information click Here. *** \nLooking for a local dining option while in town for the Ashland Farmers Market? Be sure and make reservations at The Henry Clay Inn for brunch or dinner! We offer porch or indoor dining. Call us at 804-798-3100.
URL:https://henryclayinn.com/calendar/ashland-farmers-market/
LOCATION:Ashland Town Hall\, 121 Thompson Street\, ashland\, VA\, 23005\, United States
ATTACH;FMTTYPE=image/jpeg:https://henryclayinn.com/wp-content/uploads/2024/05/Ashland-Farmers-Market-June-HCI.jpg
END:VEVENT
BEGIN:VEVENT
DTSTART;TZID=America/New_York:20240628T170000
DTEND;TZID=America/New_York:20240628T200000
DTSTAMP:20260424T025729
CREATED:20240506T155826Z
LAST-MODIFIED:20240521T191057Z
UID:5566-1719594000-1719604800@henryclayinn.com
SUMMARY:Ashland Fourth Fridays
DESCRIPTION:Ashland Fourth Fridays is a celebration of arts and culture throughout downtown Ashland\, Virginia. Come celebrate what makes Ashland wonderful and unique. Fourth Friday events run from May to September 2024. \n***Learn more at Ashlandvirginia.com/fourthfridays*** \nLooking for a local dining option while in town for Ashland Fourth Fridays? Be sure and make reservations at The Henry Clay Inn for brunch or dinner! We offer porch or indoor dining. Call us at 804-798-3100.
URL:https://henryclayinn.com/calendar/ashland-fourth-fridays-2/
LOCATION:Downtown Ashland
CATEGORIES:Local Events in Ashland
ATTACH;FMTTYPE=image/jpeg:https://henryclayinn.com/wp-content/uploads/2024/01/ashland-fourth-fridays.jpg
END:VEVENT
BEGIN:VEVENT
DTSTART;TZID=America/New_York:20240601T090000
DTEND;TZID=America/New_York:20240601T120000
DTSTAMP:20260424T025729
CREATED:20240506T151728Z
LAST-MODIFIED:20240521T200123Z
UID:5548-1717232400-1717243200@henryclayinn.com
SUMMARY:Ashland Farmers Market
DESCRIPTION:Shop & Support Local at the Ashland Farmers Market! \n*** For more information click Here. *** \nLooking for a local dining option while in town for the Ashland Farmers Market? Be sure and make reservations at The Henry Clay Inn for brunch or dinner! We offer porch or indoor dining. Call us at 804-798-3100.
URL:https://henryclayinn.com/calendar/ashland-farmers-market/
LOCATION:Ashland Town Hall\, 121 Thompson Street\, ashland\, VA\, 23005\, United States
ATTACH;FMTTYPE=image/jpeg:https://henryclayinn.com/wp-content/uploads/2024/05/Ashland-Farmers-Market-June-HCI.jpg
END:VEVENT
END:VCALENDAR