BEGIN:VCALENDAR
VERSION:2.0
PRODID:-//The Henry Clay Inn - ECPv6.15.20//NONSGML v1.0//EN
CALSCALE:GREGORIAN
METHOD:PUBLISH
X-WR-CALNAME:The Henry Clay Inn
X-ORIGINAL-URL:https://henryclayinn.com
X-WR-CALDESC:Events for The Henry Clay Inn
REFRESH-INTERVAL;VALUE=DURATION:PT1H
X-Robots-Tag:noindex
X-PUBLISHED-TTL:PT1H
BEGIN:VTIMEZONE
TZID:America/New_York
BEGIN:DAYLIGHT
TZOFFSETFROM:-0500
TZOFFSETTO:-0400
TZNAME:EDT
DTSTART:20230312T070000
END:DAYLIGHT
BEGIN:STANDARD
TZOFFSETFROM:-0400
TZOFFSETTO:-0500
TZNAME:EST
DTSTART:20231105T060000
END:STANDARD
BEGIN:DAYLIGHT
TZOFFSETFROM:-0500
TZOFFSETTO:-0400
TZNAME:EDT
DTSTART:20240310T070000
END:DAYLIGHT
BEGIN:STANDARD
TZOFFSETFROM:-0400
TZOFFSETTO:-0500
TZNAME:EST
DTSTART:20241103T060000
END:STANDARD
BEGIN:DAYLIGHT
TZOFFSETFROM:-0500
TZOFFSETTO:-0400
TZNAME:EDT
DTSTART:20250309T070000
END:DAYLIGHT
BEGIN:STANDARD
TZOFFSETFROM:-0400
TZOFFSETTO:-0500
TZNAME:EST
DTSTART:20251102T060000
END:STANDARD
END:VTIMEZONE
BEGIN:VEVENT
DTSTART;TZID=America/New_York:20240704T110000
DTEND;TZID=America/New_York:20240704T120000
DTSTAMP:20260424T013238
CREATED:20240611T184904Z
LAST-MODIFIED:20240611T185149Z
UID:5791-1720090800-1720094400@henryclayinn.com
SUMMARY:Ashland July Fourth Parade & Celebration
DESCRIPTION:A beloved tradition\, join us on July Fourth for a day of fun celebrating our country’s independence! Featuring an endearing small town walking parade and a patriotic concert by the Hanover Concert Band on our lawn. \n*** For more information visit hanoverarts.net *** \nLooking for a local dining option while in town for The Ashland Fourth of July Parade? Be sure to make reservations at The Henry Clay Inn for all your lodging needs! Call us at 804-798-3100.
URL:https://henryclayinn.com/calendar/ashland-fourth-of-july-parade/
LOCATION:Hanover Arts Center\, 500 South Center Street\, Ashland\, VA\, 23005\, United States
ATTACH;FMTTYPE=image/jpeg:https://henryclayinn.com/wp-content/uploads/2024/06/Fourth-of-July-Parade-HCI.jpg
END:VEVENT
BEGIN:VEVENT
DTSTART;TZID=America/New_York:20240706T040000
DTEND;TZID=America/New_York:20240706T180000
DTSTAMP:20260424T013238
CREATED:20240611T205700Z
LAST-MODIFIED:20240611T205700Z
UID:5835-1720238400-1720288800@henryclayinn.com
SUMMARY:Sips & Spiritual Stones
DESCRIPTION:In collaboration with B.Birdwatcher Spiritual Stones\, join The James River Cellars for a bead-making class where you will learn all about the history of gemstones\, while creating two unique bracelets that will feature what you learn. \n*** For more information on this event click here. *** \nLooking for a local dining option while in town for Sips & Spiritual Stones? Be sure and make reservations at The Henry Clay Inn for brunch or dinner! We offer porch or indoor dining. Call us at 804-798-3100.
URL:https://henryclayinn.com/calendar/sips-spiritual-stones/
LOCATION:James River Cellars\, 11008 Washington Highway\, Glenn Allen\, VA\, 23059\, United States
ATTACH;FMTTYPE=image/jpeg:https://henryclayinn.com/wp-content/uploads/2024/06/Sips-Spiritual-Stones-HCI.jpg
END:VEVENT
BEGIN:VEVENT
DTSTART;TZID=America/New_York:20240706T090000
DTEND;TZID=America/New_York:20240706T120000
DTSTAMP:20260424T013238
CREATED:20240611T191304Z
LAST-MODIFIED:20240611T191304Z
UID:5801-1720256400-1720267200@henryclayinn.com
SUMMARY:Ashland Farmers Market
DESCRIPTION:Shop & Support Local at the Ashland Farmers Market! \n*** For more information click Here. *** \nLooking for a local dining option while in town for the Ashland Farmers Market? Be sure and make reservations at The Henry Clay Inn for brunch or dinner! We offer porch or indoor dining. Call us at 804-798-3100.
URL:https://henryclayinn.com/calendar/ashland-farmers-market-3/
LOCATION:Ashland Town Hall\, 121 Thompson Street\, ashland\, VA\, 23005\, United States
ATTACH;FMTTYPE=image/jpeg:https://henryclayinn.com/wp-content/uploads/2024/05/Ashland-Farmers-Market-June-HCI.jpg
END:VEVENT
BEGIN:VEVENT
DTSTART;TZID=America/New_York:20240712T170000
DTEND;TZID=America/New_York:20240712T210000
DTSTAMP:20260424T013238
CREATED:20240326T164523Z
LAST-MODIFIED:20240521T190848Z
UID:5319-1720803600-1720818000@henryclayinn.com
SUMMARY:Hanover Tomato Festival
DESCRIPTION:This free\, outdoor family and pet-friendly festival is held in Pole Green Park in Mechanicsville. In addition to select agriculture\, handcraft and artisan vendors there will be a variety of tomato-themed children’s and family activities and delicious Hanover Tomatoes for purchase\, tasting and Hanover Tomato-focused cuisine. \n***Learn more at Hanovertomatofestival.com.*** \nLooking for a local dining option while in town for the Hanover Tomato Festival? Be sure and make reservations at The Henry Clay Inn for brunch or dinner! We offer porch or indoor dining. Call us at 804-798-3100.
URL:https://henryclayinn.com/calendar/hanover-tomato-festival/
LOCATION:Pole Green Park\, 8996 Pole Green Park Lane\, Mechanicsville\, VA\, 23116\, United States
ATTACH;FMTTYPE=image/jpeg:https://henryclayinn.com/wp-content/uploads/2024/03/Hanover-Tomato-Festival.jpg
END:VEVENT
BEGIN:VEVENT
DTSTART;TZID=America/New_York:20240706T090000
DTEND;TZID=America/New_York:20240706T120000
DTSTAMP:20260424T013238
CREATED:20240611T191304Z
LAST-MODIFIED:20240611T191304Z
UID:5801-1720256400-1720267200@henryclayinn.com
SUMMARY:Ashland Farmers Market
DESCRIPTION:Shop & Support Local at the Ashland Farmers Market! \n*** For more information click Here. *** \nLooking for a local dining option while in town for the Ashland Farmers Market? Be sure and make reservations at The Henry Clay Inn for brunch or dinner! We offer porch or indoor dining. Call us at 804-798-3100.
URL:https://henryclayinn.com/calendar/ashland-farmers-market-3/
LOCATION:Ashland Town Hall\, 121 Thompson Street\, ashland\, VA\, 23005\, United States
ATTACH;FMTTYPE=image/jpeg:https://henryclayinn.com/wp-content/uploads/2024/05/Ashland-Farmers-Market-June-HCI.jpg
END:VEVENT
BEGIN:VEVENT
DTSTART;TZID=America/New_York:20240713T090000
DTEND;TZID=America/New_York:20240713T130000
DTSTAMP:20260424T013238
CREATED:20240326T164613Z
LAST-MODIFIED:20240521T190802Z
UID:5326-1720861200-1720875600@henryclayinn.com
SUMMARY:Hanover Tomato Festival
DESCRIPTION:This free\, outdoor family and pet-friendly festival is held in Pole Green Park in Mechanicsville. In addition to select agriculture\, handcraft and artisan vendors there will be a variety of tomato-themed children’s and family activities and delicious Hanover Tomatoes for purchase\, tasting and Hanover Tomato-focused cuisine. \n***Learn more at Hanovertomatofestival.com.*** \nLooking for a local dining option while in town for the Hanover Tomato Festival? Be sure and make reservations at The Henry Clay Inn for brunch or dinner! We offer porch or indoor dining. Call us at 804-798-3100.
URL:https://henryclayinn.com/calendar/hanover-tomato-festival-2/
LOCATION:Pole Green Park\, 8996 Pole Green Park Lane\, Mechanicsville\, VA\, 23116\, United States
ATTACH;FMTTYPE=image/jpeg:https://henryclayinn.com/wp-content/uploads/2024/03/Hanover-Tomato-Festival.jpg
END:VEVENT
BEGIN:VEVENT
DTSTART;TZID=America/New_York:20240706T090000
DTEND;TZID=America/New_York:20240706T120000
DTSTAMP:20260424T013238
CREATED:20240611T191304Z
LAST-MODIFIED:20240611T191304Z
UID:5801-1720256400-1720267200@henryclayinn.com
SUMMARY:Ashland Farmers Market
DESCRIPTION:Shop & Support Local at the Ashland Farmers Market! \n*** For more information click Here. *** \nLooking for a local dining option while in town for the Ashland Farmers Market? Be sure and make reservations at The Henry Clay Inn for brunch or dinner! We offer porch or indoor dining. Call us at 804-798-3100.
URL:https://henryclayinn.com/calendar/ashland-farmers-market-3/
LOCATION:Ashland Town Hall\, 121 Thompson Street\, ashland\, VA\, 23005\, United States
ATTACH;FMTTYPE=image/jpeg:https://henryclayinn.com/wp-content/uploads/2024/05/Ashland-Farmers-Market-June-HCI.jpg
END:VEVENT
BEGIN:VEVENT
DTSTART;TZID=America/New_York:20240720T160000
DTEND;TZID=America/New_York:20240720T190000
DTSTAMP:20260424T013238
CREATED:20240611T195711Z
LAST-MODIFIED:20240611T195711Z
UID:5819-1721491200-1721502000@henryclayinn.com
SUMMARY:Hanover Maters & Crab Festival
DESCRIPTION:Presented by Farm Bureau Insurance.\nCraving crabs? Head to the Hanover Tomato & Crab Fest for a celebration of local tomatoes and all-you-can-eat crabs! \n*** For more information visit hanovervegetablefarm.com. *** \nAre you planning on staying in Ashland overnight for Hanover Maters & Crab Festival? Be sure to make reservations at The Henry Clay Inn for all your lodging needs! Call us at 804-798-3100.
URL:https://henryclayinn.com/calendar/hanover-maters-crab-festival/
LOCATION:Hanover Vegetable Farm\, 13580 Ashland Road\, ashland\, VA\, 23005\, United States
ATTACH;FMTTYPE=image/jpeg:https://henryclayinn.com/wp-content/uploads/2024/06/Hanover-Maters-Crab-Festival-HCI.jpg
END:VEVENT
BEGIN:VEVENT
DTSTART;TZID=America/New_York:20240726T170000
DTEND;TZID=America/New_York:20240726T200000
DTSTAMP:20260424T013238
CREATED:20240611T195840Z
LAST-MODIFIED:20240611T195907Z
UID:5823-1722013200-1722024000@henryclayinn.com
SUMMARY:Ashland Fourth Fridays
DESCRIPTION:Ashland Fourth Fridays is a celebration of arts and culture throughout downtown Ashland\, Virginia. Come celebrate what makes Ashland wonderful and unique. Fourth Friday events run from May to September 2024. \n***Learn more at Ashlandvirginia.com/fourthfridays*** \nLooking for a local dining option while in town for Ashland Fourth Fridays? Be sure and make reservations at The Henry Clay Inn for brunch or dinner! We offer porch or indoor dining. Call us at 804-798-3100.
URL:https://henryclayinn.com/calendar/ashland-fourth-fridays-3/
LOCATION:Downtown Ashland
CATEGORIES:Local Events in Ashland
ATTACH;FMTTYPE=image/jpeg:https://henryclayinn.com/wp-content/uploads/2024/01/ashland-fourth-fridays.jpg
END:VEVENT
BEGIN:VEVENT
DTSTART;TZID=America/New_York:20240706T090000
DTEND;TZID=America/New_York:20240706T120000
DTSTAMP:20260424T013238
CREATED:20240611T191304Z
LAST-MODIFIED:20240611T191304Z
UID:5801-1720256400-1720267200@henryclayinn.com
SUMMARY:Ashland Farmers Market
DESCRIPTION:Shop & Support Local at the Ashland Farmers Market! \n*** For more information click Here. *** \nLooking for a local dining option while in town for the Ashland Farmers Market? Be sure and make reservations at The Henry Clay Inn for brunch or dinner! We offer porch or indoor dining. Call us at 804-798-3100.
URL:https://henryclayinn.com/calendar/ashland-farmers-market-3/
LOCATION:Ashland Town Hall\, 121 Thompson Street\, ashland\, VA\, 23005\, United States
ATTACH;FMTTYPE=image/jpeg:https://henryclayinn.com/wp-content/uploads/2024/05/Ashland-Farmers-Market-June-HCI.jpg
END:VEVENT
BEGIN:VEVENT
DTSTART;TZID=America/New_York:20240727T100000
DTEND;TZID=America/New_York:20240727T110000
DTSTAMP:20260424T013238
CREATED:20240716T202801Z
LAST-MODIFIED:20240723T185658Z
UID:6127-1722074400-1722078000@henryclayinn.com
SUMMARY:Vinyasa & Vino Yoga Class
DESCRIPTION:Join James River Cellars for a fun and flowy outdoor Vinyasa yoga class with Old Mechanicsville Health Spa!  \n*** For more information on this event click here. *** \nLooking for a local dining option while in town for the Vinyasa & Vino Yoga Class? Be sure and make reservations at The Henry Clay Inn for brunch or dinner! We offer porch or indoor dining. Call us at 804-798-3100. \n  \n 
URL:https://henryclayinn.com/calendar/vinyasa-vino-yoga-class/
LOCATION:James River Cellars\, 11008 Washington Highway\, Glenn Allen\, VA\, 23059\, United States
ATTACH;FMTTYPE=image/jpeg:https://henryclayinn.com/wp-content/uploads/2024/07/Vinyasa-Vino-Yoga-Class.jpg
END:VEVENT
BEGIN:VEVENT
DTSTART;TZID=America/New_York:20240727T100000
DTEND;TZID=America/New_York:20240727T160000
DTSTAMP:20260424T013238
CREATED:20240716T204929Z
LAST-MODIFIED:20240716T204929Z
UID:6131-1722074400-1722096000@henryclayinn.com
SUMMARY:Scotchtown Summer Saturday Series: Paper Quilling
DESCRIPTION:During this program\, you will learn the basic techniques of quilling and create your own small\, quilled card to take home. \n*** For more information on this event click here. *** \nLooking for a local dining option while in town for Scotchtown Summer Saturday Series: Paper Quilling? Be sure and make reservations at The Henry Clay Inn for brunch or dinner! We offer porch or indoor dining. Call us at 804-798-3100.
URL:https://henryclayinn.com/calendar/scotchtown-summer-saturday-series-paper-quilling/
LOCATION:Patrick Henry’s Scotchtown\, 16120 Chiswell Ln\, Beaverdam\, VA\, 23015\, United States
ATTACH;FMTTYPE=image/jpeg:https://henryclayinn.com/wp-content/uploads/2024/07/Scotchtown-Summer-Saturday-Series-Paper-Quilling.jpg
END:VEVENT
END:VCALENDAR