BEGIN:VCALENDAR
VERSION:2.0
PRODID:-//The Henry Clay Inn - ECPv6.15.20//NONSGML v1.0//EN
CALSCALE:GREGORIAN
METHOD:PUBLISH
X-WR-CALNAME:The Henry Clay Inn
X-ORIGINAL-URL:https://henryclayinn.com
X-WR-CALDESC:Events for The Henry Clay Inn
REFRESH-INTERVAL;VALUE=DURATION:PT1H
X-Robots-Tag:noindex
X-PUBLISHED-TTL:PT1H
BEGIN:VTIMEZONE
TZID:America/New_York
BEGIN:DAYLIGHT
TZOFFSETFROM:-0500
TZOFFSETTO:-0400
TZNAME:EDT
DTSTART:20230312T070000
END:DAYLIGHT
BEGIN:STANDARD
TZOFFSETFROM:-0400
TZOFFSETTO:-0500
TZNAME:EST
DTSTART:20231105T060000
END:STANDARD
BEGIN:DAYLIGHT
TZOFFSETFROM:-0500
TZOFFSETTO:-0400
TZNAME:EDT
DTSTART:20240310T070000
END:DAYLIGHT
BEGIN:STANDARD
TZOFFSETFROM:-0400
TZOFFSETTO:-0500
TZNAME:EST
DTSTART:20241103T060000
END:STANDARD
BEGIN:DAYLIGHT
TZOFFSETFROM:-0500
TZOFFSETTO:-0400
TZNAME:EDT
DTSTART:20250309T070000
END:DAYLIGHT
BEGIN:STANDARD
TZOFFSETFROM:-0400
TZOFFSETTO:-0500
TZNAME:EST
DTSTART:20251102T060000
END:STANDARD
END:VTIMEZONE
BEGIN:VEVENT
DTSTART;TZID=America/New_York:20240901T120000
DTEND;TZID=America/New_York:20240901T170000
DTSTAMP:20260423T224207
CREATED:20240820T173653Z
LAST-MODIFIED:20240820T173653Z
UID:6195-1725192000-1725210000@henryclayinn.com
SUMMARY:Oyster & Wine Field Day
DESCRIPTION:Join James River Wine Cellars in celebrating the fall harvest with a day of wine and oysters! \n*** For more information on this event click here. *** \nLooking for a local dining option while in town for the Oyster & Wine Field Day? Be sure and make reservations at The Henry Clay Inn for brunch or dinner! We offer porch or indoor dining. Call us at 804-798-3100.
URL:https://henryclayinn.com/calendar/oyster-wine-field-day/
LOCATION:James River Cellars\, 11008 Washington Highway\, Glenn Allen\, VA\, 23059\, United States
ATTACH;FMTTYPE=image/jpeg:https://henryclayinn.com/wp-content/uploads/2024/08/Oyster-Wine-field-day.jpg
END:VEVENT
BEGIN:VEVENT
DTSTART;TZID=America/New_York:20240902T130000
DTEND;TZID=America/New_York:20240902T160000
DTSTAMP:20260423T224207
CREATED:20240820T174333Z
LAST-MODIFIED:20240820T174333Z
UID:6204-1725282000-1725292800@henryclayinn.com
SUMMARY:Labor Day – Live Music
DESCRIPTION:Join James River Wine Cellars for a free relaxing afternoon under the pavilion with live acoustic style music. This event is a Part 2 to the September 1st Oyster & Wine Field Day! \n*** For more information on this event click here. *** \nLooking for a local dining option while in town for Labor Day – Live Music? Be sure and make reservations at The Henry Clay Inn for brunch or dinner! We offer porch or indoor dining. Call us at 804-798-3100.
URL:https://henryclayinn.com/calendar/labor-day-live-music/
LOCATION:James River Cellars\, 11008 Washington Highway\, Glenn Allen\, VA\, 23059\, United States
CATEGORIES:Local Events in Ashland
ATTACH;FMTTYPE=image/jpeg:https://henryclayinn.com/wp-content/uploads/2024/08/Labor-Day-Live-music.jpg
END:VEVENT
BEGIN:VEVENT
DTSTART;TZID=America/New_York:20240907T053000
DTEND;TZID=America/New_York:20240907T203000
DTSTAMP:20260423T224207
CREATED:20240820T180033Z
LAST-MODIFIED:20240820T180033Z
UID:6212-1725687000-1725741000@henryclayinn.com
SUMMARY:Youthful Beginnings Shrimp & BBQ Feast
DESCRIPTION:Join Hanover Vegetable Farm for an all you can eat shrimp event\, plus fireworks!  \n*** For more information on this event click here. *** \nAre you planning on staying in Ashland overnight for Youthful Beginnings Shrimp & BBQ Feast? Be sure to make reservations at The Henry Clay Inn for all your lodging needs! Call us at 804-798-3100.
URL:https://henryclayinn.com/calendar/youthful-beginnings-shrimp-bbq-feast/
LOCATION:Hanover Vegetable Farm\, 13580 Ashland Road\, ashland\, VA\, 23005\, United States
ATTACH;FMTTYPE=image/jpeg:https://henryclayinn.com/wp-content/uploads/2024/08/Shrimp-BBQ-Fest.jpg
END:VEVENT
BEGIN:VEVENT
DTSTART;TZID=America/New_York:20240907T090000
DTEND;TZID=America/New_York:20240907T120000
DTSTAMP:20260423T224207
CREATED:20240820T173901Z
LAST-MODIFIED:20240820T173901Z
UID:6200-1725699600-1725710400@henryclayinn.com
SUMMARY:Ashland Farmers Market
DESCRIPTION:Come visit the producer-only market in the heart of Ashland. Every Saturday morning May through October. \n*** For more information on this event click here. *** \nLooking for a local dining option while in town for The Ashland Farmers Market? Be sure and make reservations at The Henry Clay Inn for brunch or dinner! We offer porch or indoor dining. Call us at 804-798-3100.
URL:https://henryclayinn.com/calendar/ashland-farmers-market-5/
LOCATION:Ashland Town Hall\, 121 Thompson Street\, ashland\, VA\, 23005\, United States
CATEGORIES:Local Events in Ashland
ATTACH;FMTTYPE=image/jpeg:https://henryclayinn.com/wp-content/uploads/2024/08/Ashland-Farmers-Market.jpg
END:VEVENT
BEGIN:VEVENT
DTSTART;TZID=America/New_York:20240907T090000
DTEND;TZID=America/New_York:20240907T120000
DTSTAMP:20260423T224207
CREATED:20240820T173901Z
LAST-MODIFIED:20240820T173901Z
UID:6200-1725699600-1725710400@henryclayinn.com
SUMMARY:Ashland Farmers Market
DESCRIPTION:Come visit the producer-only market in the heart of Ashland. Every Saturday morning May through October. \n*** For more information on this event click here. *** \nLooking for a local dining option while in town for The Ashland Farmers Market? Be sure and make reservations at The Henry Clay Inn for brunch or dinner! We offer porch or indoor dining. Call us at 804-798-3100.
URL:https://henryclayinn.com/calendar/ashland-farmers-market-5/
LOCATION:Ashland Town Hall\, 121 Thompson Street\, ashland\, VA\, 23005\, United States
CATEGORIES:Local Events in Ashland
ATTACH;FMTTYPE=image/jpeg:https://henryclayinn.com/wp-content/uploads/2024/08/Ashland-Farmers-Market.jpg
END:VEVENT
BEGIN:VEVENT
DTSTART;TZID=America/New_York:20240907T090000
DTEND;TZID=America/New_York:20240907T120000
DTSTAMP:20260423T224207
CREATED:20240820T173901Z
LAST-MODIFIED:20240820T173901Z
UID:6200-1725699600-1725710400@henryclayinn.com
SUMMARY:Ashland Farmers Market
DESCRIPTION:Come visit the producer-only market in the heart of Ashland. Every Saturday morning May through October. \n*** For more information on this event click here. *** \nLooking for a local dining option while in town for The Ashland Farmers Market? Be sure and make reservations at The Henry Clay Inn for brunch or dinner! We offer porch or indoor dining. Call us at 804-798-3100.
URL:https://henryclayinn.com/calendar/ashland-farmers-market-5/
LOCATION:Ashland Town Hall\, 121 Thompson Street\, ashland\, VA\, 23005\, United States
CATEGORIES:Local Events in Ashland
ATTACH;FMTTYPE=image/jpeg:https://henryclayinn.com/wp-content/uploads/2024/08/Ashland-Farmers-Market.jpg
END:VEVENT
BEGIN:VEVENT
DTSTART;TZID=America/New_York:20240921T110000
DTEND;TZID=America/New_York:20240921T180000
DTSTAMP:20260423T224207
CREATED:20240820T180612Z
LAST-MODIFIED:20240820T180612Z
UID:6219-1726916400-1726941600@henryclayinn.com
SUMMARY:The Richmond East Moose Lodge Apple Cider\, Bluegrass Festival
DESCRIPTION:Join the Hanover Vegetable Farm for its 3rd annual Richmond east most lodge apple cider\, bluegrass festival! This is a two day event hosted on September 21st & 22nd 11:00-6:00pm both days. \n*** For more information on this event click here. *** \nLooking for a local dining option while in town for The Richmond East Moose Lodge Apple Cider\, Bluegrass Festival? Be sure and make reservations at The Henry Clay Inn for brunch or dinner! We offer porch or indoor dining. Call us at 804-798-3100.
URL:https://henryclayinn.com/calendar/the-richmond-east-moose-lodge-apple-cider-bluegrass-festival/
LOCATION:Hanover Vegetable Farm\, 13580 Ashland Road\, ashland\, VA\, 23005\, United States
ATTACH;FMTTYPE=image/jpeg:https://henryclayinn.com/wp-content/uploads/2024/08/Apple-Cider-Bluegrass-Fest.jpg
END:VEVENT
BEGIN:VEVENT
DTSTART;TZID=America/New_York:20240921T110000
DTEND;TZID=America/New_York:20240921T180000
DTSTAMP:20260423T224207
CREATED:20240820T180612Z
LAST-MODIFIED:20240820T180612Z
UID:6219-1726916400-1726941600@henryclayinn.com
SUMMARY:The Richmond East Moose Lodge Apple Cider\, Bluegrass Festival
DESCRIPTION:Join the Hanover Vegetable Farm for its 3rd annual Richmond east most lodge apple cider\, bluegrass festival! This is a two day event hosted on September 21st & 22nd 11:00-6:00pm both days. \n*** For more information on this event click here. *** \nLooking for a local dining option while in town for The Richmond East Moose Lodge Apple Cider\, Bluegrass Festival? Be sure and make reservations at The Henry Clay Inn for brunch or dinner! We offer porch or indoor dining. Call us at 804-798-3100.
URL:https://henryclayinn.com/calendar/the-richmond-east-moose-lodge-apple-cider-bluegrass-festival/
LOCATION:Hanover Vegetable Farm\, 13580 Ashland Road\, ashland\, VA\, 23005\, United States
ATTACH;FMTTYPE=image/jpeg:https://henryclayinn.com/wp-content/uploads/2024/08/Apple-Cider-Bluegrass-Fest.jpg
END:VEVENT
BEGIN:VEVENT
DTSTART;TZID=America/New_York:20240927T170000
DTEND;TZID=America/New_York:20240927T200000
DTSTAMP:20260423T224207
CREATED:20240820T180151Z
LAST-MODIFIED:20240820T180151Z
UID:6216-1727456400-1727467200@henryclayinn.com
SUMMARY:Ashland Fourth Fridays
DESCRIPTION:Ashland Fourth Fridays is a celebration of arts and culture throughout downtown Ashland\, Virginia. Come celebrate what makes Ashland wonderful and unique. Fourth Friday events run from May to September 2024. \n***Learn more at Ashlandvirginia.com/fourthfridays*** \nLooking for a local dining option while in town for Ashland Fourth Fridays? Be sure and make reservations at The Henry Clay Inn for brunch or dinner! We offer porch or indoor dining. Call us at 804-798-3100.
URL:https://henryclayinn.com/calendar/ashland-fourth-fridays-5/
LOCATION:Downtown Ashland
CATEGORIES:Local Events in Ashland
ATTACH;FMTTYPE=image/jpeg:https://henryclayinn.com/wp-content/uploads/2024/08/Ashland-fourth-fridays.jpg
END:VEVENT
BEGIN:VEVENT
DTSTART;TZID=America/New_York:20240907T090000
DTEND;TZID=America/New_York:20240907T120000
DTSTAMP:20260423T224207
CREATED:20240820T173901Z
LAST-MODIFIED:20240820T173901Z
UID:6200-1725699600-1725710400@henryclayinn.com
SUMMARY:Ashland Farmers Market
DESCRIPTION:Come visit the producer-only market in the heart of Ashland. Every Saturday morning May through October. \n*** For more information on this event click here. *** \nLooking for a local dining option while in town for The Ashland Farmers Market? Be sure and make reservations at The Henry Clay Inn for brunch or dinner! We offer porch or indoor dining. Call us at 804-798-3100.
URL:https://henryclayinn.com/calendar/ashland-farmers-market-5/
LOCATION:Ashland Town Hall\, 121 Thompson Street\, ashland\, VA\, 23005\, United States
CATEGORIES:Local Events in Ashland
ATTACH;FMTTYPE=image/jpeg:https://henryclayinn.com/wp-content/uploads/2024/08/Ashland-Farmers-Market.jpg
END:VEVENT
BEGIN:VEVENT
DTSTART;TZID=America/New_York:20240928T100000
DTEND;TZID=America/New_York:20240928T150000
DTSTAMP:20260423T224207
CREATED:20240820T180849Z
LAST-MODIFIED:20240820T180849Z
UID:6224-1727517600-1727535600@henryclayinn.com
SUMMARY:Hanover Tavern Autumnfest
DESCRIPTION:Enjoy plenty of family fun\, food\, and frolics at Hanover Taverns 9th annual Autmnfest! \n*** For more information on this event click here. *** \nLooking for a local dining option while in town for Hanover Tavern Autumnfest? Be sure and make reservations at The Henry Clay Inn for brunch or dinner! We offer porch or indoor dining. Call us at 804-798-3100.
URL:https://henryclayinn.com/calendar/hanover-tavern-autumnfest/
LOCATION:Hanover Tavern\, 13181 hanover courthouse road\, hanover\, VA\, 23069\, United States
CATEGORIES:Local Events in Ashland
ATTACH;FMTTYPE=image/jpeg:https://henryclayinn.com/wp-content/uploads/2024/08/Autumnfest.jpg
END:VEVENT
BEGIN:VEVENT
DTSTART;TZID=America/New_York:20240928T120000
DTEND;TZID=America/New_York:20240928T190000
DTSTAMP:20260423T224207
CREATED:20240820T174708Z
LAST-MODIFIED:20240820T174708Z
UID:6208-1727524800-1727550000@henryclayinn.com
SUMMARY:ROCKtoberfest 2024
DESCRIPTION:Come rock with Center of the Universe Brewing German-style at ROCKtoberfest! \n*** For more information on this event click here. *** \nAre you planning on staying in Ashland overnight for ROCKtoberfest 2024? Be sure to make reservations at The Henry Clay Inn for all your lodging needs! Call us at 804-798-3100.
URL:https://henryclayinn.com/calendar/rocktoberfest-2024/
LOCATION:Center of the Universe Brewing Co.\, 11293 Air Park Rd\, ashland\, VA\, 23005\, United States
ATTACH;FMTTYPE=image/jpeg:https://henryclayinn.com/wp-content/uploads/2024/08/ROCKtoberfest.jpg
END:VEVENT
END:VCALENDAR