BEGIN:VCALENDAR
VERSION:2.0
PRODID:-//The Henry Clay Inn - ECPv6.15.20//NONSGML v1.0//EN
CALSCALE:GREGORIAN
METHOD:PUBLISH
X-WR-CALNAME:The Henry Clay Inn
X-ORIGINAL-URL:https://henryclayinn.com
X-WR-CALDESC:Events for The Henry Clay Inn
REFRESH-INTERVAL;VALUE=DURATION:PT1H
X-Robots-Tag:noindex
X-PUBLISHED-TTL:PT1H
BEGIN:VTIMEZONE
TZID:America/New_York
BEGIN:DAYLIGHT
TZOFFSETFROM:-0500
TZOFFSETTO:-0400
TZNAME:EDT
DTSTART:20240310T070000
END:DAYLIGHT
BEGIN:STANDARD
TZOFFSETFROM:-0400
TZOFFSETTO:-0500
TZNAME:EST
DTSTART:20241103T060000
END:STANDARD
BEGIN:DAYLIGHT
TZOFFSETFROM:-0500
TZOFFSETTO:-0400
TZNAME:EDT
DTSTART:20250309T070000
END:DAYLIGHT
BEGIN:STANDARD
TZOFFSETFROM:-0400
TZOFFSETTO:-0500
TZNAME:EST
DTSTART:20251102T060000
END:STANDARD
BEGIN:DAYLIGHT
TZOFFSETFROM:-0500
TZOFFSETTO:-0400
TZNAME:EDT
DTSTART:20260308T070000
END:DAYLIGHT
BEGIN:STANDARD
TZOFFSETFROM:-0400
TZOFFSETTO:-0500
TZNAME:EST
DTSTART:20261101T060000
END:STANDARD
END:VTIMEZONE
BEGIN:VEVENT
DTSTART;TZID=America/New_York:20251003T190000
DTEND;TZID=America/New_York:20251003T220000
DTSTAMP:20260423T011120
CREATED:20250915T164950Z
LAST-MODIFIED:20250915T164950Z
UID:7784-1759518000-1759528800@henryclayinn.com
SUMMARY:Terror on the Farm
DESCRIPTION:Ashland Berry Farm unleashes a brand-new season of screams with four terrifying haunts for 2025! Just outside Richmond in Hanover\, Virginia\, our farm transforms after dark into the region’s most horrifying haunted destination. Join them for a full month of terror starting October 3rd 2025. \n*** For more information on this event click here. *** \nLooking for a local dining option while in town for Terror on the Farm? Be sure and make reservations at The Henry Clay Inn for brunch or dinner! We offer porch or indoor dining. Call us at 804-798-3100.
URL:https://henryclayinn.com/calendar/terror-on-the-farm/
LOCATION:Ashland Berry Farm\, 12607 Old Ridge Rd\, Beaverdam\, VA\, 23015\, United States
ATTACH;FMTTYPE=image/jpeg:https://henryclayinn.com/wp-content/uploads/2025/09/Terror-on-the-farm.jpg
END:VEVENT
BEGIN:VEVENT
DTSTART;TZID=America/New_York:20251009T183000
DTEND;TZID=America/New_York:20251009T220000
DTSTAMP:20260423T011120
CREATED:20250923T142626Z
LAST-MODIFIED:20250923T143441Z
UID:7826-1760034600-1760047200@henryclayinn.com
SUMMARY:Ashland Theatre: Haunted House and Halloween showing
DESCRIPTION:Something wicked this way comes… and it’s taking over the Ashland Theatre for one unforgettable night! Join us on Thursday\, October 9 for the first-ever Ashland Theatre Haunted House — a spine-tingling experience blending the magic of movies with the thrill of the unknown. \n*** For more information on this event click here. *** \nLooking for a local dining option while in town for Ashland Theatre: Haunted House and Halloween showing? Be sure and make reservations at The Henry Clay Inn for brunch or dinner! We offer porch or indoor dining. Call us at 804-798-3100.
URL:https://henryclayinn.com/calendar/ashland-theatre-haunted-house-and-halloween-showing/
LOCATION:Ashland Theatre\, 205 England Street\, Ashland\, VA\, 23005\, United States
ATTACH;FMTTYPE=image/jpeg:https://henryclayinn.com/wp-content/uploads/2025/09/ashland-theater-fundraiser.jpg
END:VEVENT
BEGIN:VEVENT
DTSTART;TZID=America/New_York:20250912T180000
DTEND;TZID=America/New_York:20250912T203000
DTSTAMP:20260423T011120
CREATED:20250825T160722Z
LAST-MODIFIED:20250825T160722Z
UID:7671-1757700000-1757709000@henryclayinn.com
SUMMARY:Patio Pawtys
DESCRIPTION:Grab your pup and join COTU for Patio Pawtys\, the ulti-mutt evening out on the patio! We’re throwing a dog-friendly party with everything you love: cold beverages\, food\, and live music! \n*** For more information on this event click here. *** \nLooking for a local dining option while in town for Patio Pawtys? Be sure and make reservations at The Henry Clay Inn for brunch or dinner! We offer pup friendly porch seating or indoor dining. Call us at 804-798-3100.
URL:https://henryclayinn.com/calendar/patio-pawtys/
LOCATION:Center of the Universe Brewing Co.\, 11293 Air Park Rd\, ashland\, VA\, 23005\, United States
CATEGORIES:Local Events in Ashland,Things To Do Within 2 Hours of the Inn
ATTACH;FMTTYPE=image/jpeg:https://henryclayinn.com/wp-content/uploads/2025/08/patio-pawty.jpg
END:VEVENT
BEGIN:VEVENT
DTSTART;TZID=America/New_York:20251011T080000
DTEND;TZID=America/New_York:20251011T170000
DTSTAMP:20260423T011120
CREATED:20250915T181938Z
LAST-MODIFIED:20250915T181938Z
UID:7802-1760169600-1760202000@henryclayinn.com
SUMMARY:Harvest Fest Celebration
DESCRIPTION:Celebrate the season at the Harvest Fest Celebration\, hosted by our friends at Woodside Farms. Join us on Saturday\, October 11 from 2–6pm for an afternoon filled with autumn flavors\, local charm\, and community spirit. \n*** For more information on this event click here. *** \nLooking for a local dining option while in town for Harvest Fest Celebration? Be sure and make reservations at The Henry Clay Inn for brunch or dinner! We offer porch or indoor dining. Call us at 804-798-3100.
URL:https://henryclayinn.com/calendar/harvest-fest-celebration/
LOCATION:VA
ATTACH;FMTTYPE=image/jpeg:https://henryclayinn.com/wp-content/uploads/2025/09/Harvest-Fest-Celebration.jpg
END:VEVENT
BEGIN:VEVENT
DTSTART;TZID=America/New_York:20251011T160000
DTEND;TZID=America/New_York:20251011T180000
DTSTAMP:20260423T011120
CREATED:20250915T163319Z
LAST-MODIFIED:20250915T163319Z
UID:7770-1760198400-1760205600@henryclayinn.com
SUMMARY:Pumpkin Centerpiece Workshop
DESCRIPTION:Head down to the beautiful James River Cellars Winery to create your very own Harvest Pumpkin Centerpiece! \n*** For more information on this event click here. *** \nLooking for a local dining option while in town for the Pumpkin Centerpiece Workshop? Be sure and make reservations at The Henry Clay Inn for brunch or dinner! We offer porch or indoor dining. Call us at 804-798-3100.
URL:https://henryclayinn.com/calendar/pumpkin-centerpiece-workshop/
LOCATION:James River Cellars\, 11008 Washington Highway\, Glenn Allen\, VA\, 23059\, United States
ATTACH;FMTTYPE=image/jpeg:https://henryclayinn.com/wp-content/uploads/2025/09/Pumpkin-Centerpiece-Workshophttps___hanovertavern.org_wp-content_uploads_2024_11_GWAT-2025-Slider-1536x960.jpg.jpg
END:VEVENT
BEGIN:VEVENT
DTSTART;TZID=America/New_York:20251012T190000
DTEND;TZID=America/New_York:20251012T220000
DTSTAMP:20260423T011120
CREATED:20250915T164349Z
LAST-MODIFIED:20250915T164349Z
UID:7777-1760295600-1760306400@henryclayinn.com
SUMMARY:Ghosts Walk at Night
DESCRIPTION:Those who dare will tour the Haunted Hanover Tavern\, Historic Courthouse\, and Old Stone Jail. Along the way\, you’ll meet a ghastly cast of characters as they recount ghostly tales of actual events and recorded paranormal activity at these locations by Transcend Paranormal \n*** For more information on this event click here. *** \nLooking for a local dining option while in town for the Ghosts Walk at Night? Be sure and make reservations at The Henry Clay Inn for brunch or dinner! We offer porch or indoor dining. Call us at 804-798-3100.
URL:https://henryclayinn.com/calendar/ghosts-walk-at-night/
LOCATION:Hanover Tavern\, 13181 hanover courthouse road\, hanover\, VA\, 23069\, United States
ATTACH;FMTTYPE=image/jpeg:https://henryclayinn.com/wp-content/uploads/2025/09/Ghosts-Walk-at-Night.jpg
END:VEVENT
BEGIN:VEVENT
DTSTART;TZID=America/New_York:20251012T190000
DTEND;TZID=America/New_York:20251012T220000
DTSTAMP:20260423T011120
CREATED:20250915T164349Z
LAST-MODIFIED:20250915T164349Z
UID:7777-1760295600-1760306400@henryclayinn.com
SUMMARY:Ghosts Walk at Night
DESCRIPTION:Those who dare will tour the Haunted Hanover Tavern\, Historic Courthouse\, and Old Stone Jail. Along the way\, you’ll meet a ghastly cast of characters as they recount ghostly tales of actual events and recorded paranormal activity at these locations by Transcend Paranormal \n*** For more information on this event click here. *** \nLooking for a local dining option while in town for the Ghosts Walk at Night? Be sure and make reservations at The Henry Clay Inn for brunch or dinner! We offer porch or indoor dining. Call us at 804-798-3100.
URL:https://henryclayinn.com/calendar/ghosts-walk-at-night/
LOCATION:Hanover Tavern\, 13181 hanover courthouse road\, hanover\, VA\, 23069\, United States
ATTACH;FMTTYPE=image/jpeg:https://henryclayinn.com/wp-content/uploads/2025/09/Ghosts-Walk-at-Night.jpg
END:VEVENT
BEGIN:VEVENT
DTSTART;TZID=America/New_York:20251012T190000
DTEND;TZID=America/New_York:20251012T220000
DTSTAMP:20260423T011120
CREATED:20250915T164349Z
LAST-MODIFIED:20250915T164349Z
UID:7777-1760295600-1760306400@henryclayinn.com
SUMMARY:Ghosts Walk at Night
DESCRIPTION:Those who dare will tour the Haunted Hanover Tavern\, Historic Courthouse\, and Old Stone Jail. Along the way\, you’ll meet a ghastly cast of characters as they recount ghostly tales of actual events and recorded paranormal activity at these locations by Transcend Paranormal \n*** For more information on this event click here. *** \nLooking for a local dining option while in town for the Ghosts Walk at Night? Be sure and make reservations at The Henry Clay Inn for brunch or dinner! We offer porch or indoor dining. Call us at 804-798-3100.
URL:https://henryclayinn.com/calendar/ghosts-walk-at-night/
LOCATION:Hanover Tavern\, 13181 hanover courthouse road\, hanover\, VA\, 23069\, United States
ATTACH;FMTTYPE=image/jpeg:https://henryclayinn.com/wp-content/uploads/2025/09/Ghosts-Walk-at-Night.jpg
END:VEVENT
BEGIN:VEVENT
DTSTART;TZID=America/New_York:20251018T080000
DTEND;TZID=America/New_York:20251018T110000
DTSTAMP:20260423T011120
CREATED:20250826T143908Z
LAST-MODIFIED:20250826T143908Z
UID:7731-1760774400-1760785200@henryclayinn.com
SUMMARY:Ashland Harvest 10k/5k Run/Walk
DESCRIPTION:Head down to Carter Park for a fun and scenic 10K or 5K through Ashland\, VA! \n*** For more information on this event click here. *** \nLooking for a local dining option while in town for Ashland Harvest 10k/5k Run/Walk? Be sure and make reservations at The Henry Clay Inn for brunch or dinner! We offer porch or indoor dining. Call us at 804-798-3100.
URL:https://henryclayinn.com/calendar/ashland-harvest-10k-5k-run-walk/
LOCATION:Carter Park\, 1112 Maple St\, Ashland\, Virginia\, 23005
CATEGORIES:Local Events in Ashland,Things To Do Within 2 Hours of the Inn
ATTACH;FMTTYPE=image/jpeg:https://henryclayinn.com/wp-content/uploads/2025/08/Ashland-Harvest-10k_5k-Run_Walk.jpg
END:VEVENT
BEGIN:VEVENT
DTSTART;TZID=America/New_York:20251018T120000
DTEND;TZID=America/New_York:20251018T170000
DTSTAMP:20260423T011120
CREATED:20251014T163459Z
LAST-MODIFIED:20251014T163459Z
UID:7917-1760788800-1760806800@henryclayinn.com
SUMMARY:Harvest Party
DESCRIPTION:Celebrate the flavors and fun of Virginia at James River Cellars’ Harvest Party! Enjoy live music under the pavilion by Luke Bobbitt\, explore a variety of local vendors\, savor delicious bites from Happy Place Pizza\, and sip on the finest Virginia wines. \n*** For more information on this event click here. *** \nLooking for a local dining option while in town for the Harvest Party? Be sure and make reservations at The Henry Clay Inn for brunch or dinner! We offer porch or indoor dining. Call us at 804-798-3100.
URL:https://henryclayinn.com/calendar/harvest-party-2/
LOCATION:James River Cellars\, 11008 Washington Highway\, Glenn Allen\, VA\, 23059\, United States
CATEGORIES:Local Events in Ashland,Things To Do Within 2 Hours of the Inn
ATTACH;FMTTYPE=image/png:https://henryclayinn.com/wp-content/uploads/2025/10/HARVEST-4.png
END:VEVENT
BEGIN:VEVENT
DTSTART;TZID=America/New_York:20251020T190000
DTEND;TZID=America/New_York:20251020T203000
DTSTAMP:20260423T011120
CREATED:20250826T144101Z
LAST-MODIFIED:20250826T144101Z
UID:7735-1760986800-1760992200@henryclayinn.com
SUMMARY:9th Street Quartet Concert
DESCRIPTION:The 9th Street Quartet is the Quartet-in-Residence for 9th Street Chamber Music – a chamber music performance and education program based in Northern Virginia. \n*** For more information on this event click here. *** \nLooking for a local dining option while in town for 9th Street Quartet Concert? Be sure and make reservations at The Henry Clay Inn for brunch or dinner! We offer porch or indoor dining. Call us at 804-798-3100.
URL:https://henryclayinn.com/calendar/9th-street-quartet-concert/
LOCATION:Randolph-Macon College\, 114 College Ave\, ashland\, VA\, 23005\, United States
ATTACH;FMTTYPE=image/jpeg:https://henryclayinn.com/wp-content/uploads/2025/08/9th-Street-Quartet-Concert.jpg
END:VEVENT
BEGIN:VEVENT
DTSTART;TZID=America/New_York:20251025T150000
DTEND;TZID=America/New_York:20251025T190000
DTSTAMP:20260423T011120
CREATED:20250915T164731Z
LAST-MODIFIED:20250923T141952Z
UID:7781-1761404400-1761418800@henryclayinn.com
SUMMARY:Off the Rails Craft Beer Festival
DESCRIPTION:The Hanover Arts and Activities Center\, Ashland’s home for creativity\, learning and celebration\, welcomes the community to join them again this year for the “Off the Rails Craft Beer Festival: Brews\, Boos and BBQ. \n*** For more information on this event click here. *** \nLooking for a local dining option while in town for Off the Rails Craft Beer Festival? Be sure and make reservations at The Henry Clay Inn for brunch or dinner! We offer porch or indoor dining. Call us at 804-798-3100.
URL:https://henryclayinn.com/calendar/off-the-rails-craft-beer-festival/
LOCATION:Hanover Arts Center\, 500 South Center Street\, Ashland\, VA\, 23005\, United States
ATTACH;FMTTYPE=image/jpeg:https://henryclayinn.com/wp-content/uploads/2025/09/Off-the-Rails-Craft-Beer-Wine-Fest.jpg
END:VEVENT
BEGIN:VEVENT
DTSTART;TZID=America/New_York:20251025T180000
DTEND;TZID=America/New_York:20251025T210000
DTSTAMP:20260423T011120
CREATED:20250915T165204Z
LAST-MODIFIED:20250915T165204Z
UID:7788-1761415200-1761426000@henryclayinn.com
SUMMARY:The Stuff of Nightmares – A Gothic Literature Experience
DESCRIPTION:Spend an evening at Scotchtown and experience the true terror of the early Gothic literary movement as you meet the authors of some of the most chilling and haunting stories and novels of the 18th and 19th centuries. Guest interpreters will be portraying authors including Edgar Allan Poe\, Washington Irving\, Mary Shelley\, and many more! \n*** For more information on this event click here. *** \nLooking for a local dining option while in town for The Stuff of Nightmares – A Gothic Literature Experience? Be sure and make reservations at The Henry Clay Inn for brunch or dinner! We offer porch or indoor dining. Call us at 804-798-3100.
URL:https://henryclayinn.com/calendar/the-stuff-of-nightmares-a-gothic-literature-experience/
LOCATION:Patrick Henry’s Scotchtown\, 16120 Chiswell Ln\, Beaverdam\, VA\, 23015\, United States
ATTACH;FMTTYPE=image/jpeg:https://henryclayinn.com/wp-content/uploads/2025/09/The-Stuff-of-Nightmares-–-A-Gothic-Literature-Experienc.jpg
END:VEVENT
BEGIN:VEVENT
DTSTART;TZID=America/New_York:20251028T170000
DTEND;TZID=America/New_York:20251028T193000
DTSTAMP:20260423T011120
CREATED:20250826T144457Z
LAST-MODIFIED:20250826T144457Z
UID:7738-1761670800-1761679800@henryclayinn.com
SUMMARY:Halloween Fest on RT1
DESCRIPTION:Bring the whole family out for a spooktacular evening of Halloween fun at Tompkins Plaza! Enjoy a safe and festive night. \n*** For more information on this event click here. *** \nLooking for a local dining option while in town for Halloween Fest on RT1? Be sure and make reservations at The Henry Clay Inn for brunch or dinner! We offer porch or indoor dining. Call us at 804-798-3100.
URL:https://henryclayinn.com/calendar/halloween-fest-on-rt1/
LOCATION:Tompkins Plaza\, 1101 Sam Perry Blvd\, fredericksburg\, VA\, 22401\, United States
ATTACH;FMTTYPE=image/jpeg:https://henryclayinn.com/wp-content/uploads/2025/08/Halloween-Fest-on-RT1.jpg
END:VEVENT
BEGIN:VEVENT
DTSTART;VALUE=DATE:20251031
DTEND;VALUE=DATE:20251101
DTSTAMP:20260423T011120
CREATED:20250826T145911Z
LAST-MODIFIED:20250826T145911Z
UID:7745-1761868800-1761955199@henryclayinn.com
SUMMARY:Halloween at The Henry Clay Inn
DESCRIPTION:We will be open!\nStay Tuned for Specials & More Information \nCome Dine with us!\nDinner 5pm – 9pm | Monday\, Thursday–Sunday\nLunch 11am–2pm | Monday\, Thursday–Friday \n 
URL:https://henryclayinn.com/calendar/halloween-at-the-henry-clay-inn/
LOCATION:The Henry Clay Inn\, 114 N Railroad Ave\, Ashland\, VA\, 23005\, United States
ATTACH;FMTTYPE=image/jpeg:https://henryclayinn.com/wp-content/uploads/2025/08/halloween.jpg
END:VEVENT
BEGIN:VEVENT
DTSTART;TZID=America/New_York:20251031T180000
DTEND;TZID=America/New_York:20251031T220000
DTSTAMP:20260423T011120
CREATED:20250923T151253Z
LAST-MODIFIED:20250923T154045Z
UID:7835-1761933600-1761948000@henryclayinn.com
SUMMARY:Ashland Halloween Trick-or-Treat + Scavenger Hunt
DESCRIPTION:Ready for a fang-tastic Halloween challenge?  Grab your Snap & Scream Scavenger Hunt card and haunt your way through town! Visit spooky stops and claim your glow-in-the-dark prize—because you lit-erally earned it! \n*** For more information on this event click here.*** \nLooking for a local dining option while in town for Ashland Halloween Trick-or-treat + scavenger hunt? Be sure and make reservations at The Henry Clay Inn for brunch or dinner! We offer porch or indoor dining. Call us at 804-798-3100.
URL:https://henryclayinn.com/calendar/ashland-halloween-trick-or-treat-scavenger-hunt/
LOCATION:Downtown Ashland
ATTACH;FMTTYPE=image/webp:https://henryclayinn.com/wp-content/uploads/2025/09/AshlandHalloween_2023-20.jpg.webp
END:VEVENT
END:VCALENDAR